BEGIN:VCALENDAR
VERSION:2.0
PRODID:-//Plone.org//NONSGML plone.app.event//EN
X-WR-TIMEZONE:Brazil/East
BEGIN:VEVENT
SUMMARY:Audiência Pública da Câmara Municipal de Rio Branco
DTSTART;TZID=Brazil/East;VALUE=DATE-TIME:20240705T090000
DTEND;TZID=Brazil/East;VALUE=DATE-TIME:20240705T110000
DTSTAMP;VALUE=DATE-TIME:20260425T113103Z
UID:d7a59967647b47cc96ae6f1bcb1f8bb5@www.riobranco.ac.leg.br
CREATED;VALUE=DATE-TIME:20240701T160452Z
DESCRIPTION:Audiência Pública que tem por objetivo debater o Relatório 
 Resumido da Execução Orçamentária do 2° Bimestre e Relatório de Gest
 ão Fiscal do 1° Quadrimestre\, ambos do exercício de 2024. Solicitada p
 elo vereador Ismael Machado.
LAST-MODIFIED;VALUE=DATE-TIME:20240701T161110Z
LOCATION:Plenário da Câmara Municipal de Rio Branco.
URL:https://www.riobranco.ac.leg.br/institucional/eventos/audiencia-public
 a-da-camara-municipal-de-rio-branco
END:VEVENT
BEGIN:VTIMEZONE
TZID:Brazil/East
X-LIC-LOCATION:Brazil/East
BEGIN:STANDARD
DTSTART;VALUE=DATE-TIME:20240217T230000
TZNAME:BRT
TZOFFSETFROM:-0200
TZOFFSETTO:-0300
END:STANDARD
END:VTIMEZONE
END:VCALENDAR
