BEGIN:VCALENDAR
VERSION:2.0
PRODID:-//Plone.org//NONSGML plone.app.event//EN
X-WR-TIMEZONE:Brazil/East
BEGIN:VEVENT
SUMMARY:Audiência Pública da Câmara Municipal de Rio Branco
DTSTART;TZID=Brazil/East;VALUE=DATE-TIME:20240708T090000
DTEND;TZID=Brazil/East;VALUE=DATE-TIME:20240708T110000
DTSTAMP;VALUE=DATE-TIME:20260420T221543Z
UID:90c6434dd5704862ac9c2ea27b701978@www.riobranco.ac.leg.br
CREATED;VALUE=DATE-TIME:20240701T160908Z
DESCRIPTION:Audiência Pública que tem por objetivo debater o Projeto de 
 Lei Complementar n° 12/2024\, que "Dispõe sobre as Diretrizes para a ela
 boração e execução da Lei Orçamentária de 2025 e dá outras providê
 ncias. Solicitada pelo vereador Ismael Machado.
LAST-MODIFIED;VALUE=DATE-TIME:20240701T161127Z
LOCATION:Plenário da Câmara Municipal de Rio Branco.
URL:https://www.riobranco.ac.leg.br/institucional/eventos/audiencia-public
 a-da-camara-municipal-de-rio-branco-1
END:VEVENT
BEGIN:VEVENT
SUMMARY:Audiência Pública da Câmara Municipal de Rio Branco
DTSTART;TZID=Brazil/East;VALUE=DATE-TIME:20240705T090000
DTEND;TZID=Brazil/East;VALUE=DATE-TIME:20240705T110000
DTSTAMP;VALUE=DATE-TIME:20260420T221543Z
UID:d7a59967647b47cc96ae6f1bcb1f8bb5@www.riobranco.ac.leg.br
CREATED;VALUE=DATE-TIME:20240701T160452Z
DESCRIPTION:Audiência Pública que tem por objetivo debater o Relatório 
 Resumido da Execução Orçamentária do 2° Bimestre e Relatório de Gest
 ão Fiscal do 1° Quadrimestre\, ambos do exercício de 2024. Solicitada p
 elo vereador Ismael Machado.
LAST-MODIFIED;VALUE=DATE-TIME:20240701T161110Z
LOCATION:Plenário da Câmara Municipal de Rio Branco.
URL:https://www.riobranco.ac.leg.br/institucional/eventos/audiencia-public
 a-da-camara-municipal-de-rio-branco
END:VEVENT
BEGIN:VEVENT
SUMMARY:10ª Audiência Pública da Câmara Municipal de Rio Branco
DTSTART;TZID=Brazil/East;VALUE=DATE-TIME:20240621T090000
DTEND;TZID=Brazil/East;VALUE=DATE-TIME:20240621T120000
DTSTAMP;VALUE=DATE-TIME:20260420T221543Z
UID:9875ad86ec854d30a59ccf9414dc4668@www.riobranco.ac.leg.br
ATTENDEE;CN="Convidados: Ministério Público, OAB/AC, CREA/AC, CAU/AC, AC
 ISA, FIEAC e empresários.";ROLE=REQ-PARTICIPANT:Convidados: Ministério P
 úblico, OAB/AC, CREA/AC, CAU/AC, ACISA, FIEAC e empresários.
CONTACT:https://www.youtube.com/c/CamaraMunicipaldeRioBranco
CREATED;VALUE=DATE-TIME:20240621T134528Z
DESCRIPTION:Audiência Pública solicitada pelo Vereador João Marcos Luz 
 (PL) que tem por objetivo tratar sobre o Projeto de Lei Complementar nº 1
 7/2024 - "Altera a Lei Complementar nº48/2018 que dispõe sobre a Revisã
 o do Código de Obras e Edificações do Município de Rio Branco".
LAST-MODIFIED;VALUE=DATE-TIME:20240621T140812Z
LOCATION:Plenário da Câmara Municipal de Rio Branco
URL:https://www.riobranco.ac.leg.br/institucional/eventos/10a-audiencia-pu
 blica-da-camara-municipal-de-rio-branco
END:VEVENT
BEGIN:VEVENT
SUMMARY:1º Ano do Site
DTSTART;TZID=Brazil/East;VALUE=DATE-TIME:20180209T000000
DTEND;TZID=Brazil/East;VALUE=DATE-TIME:20180209T235959
DTSTAMP;VALUE=DATE-TIME:20260420T221543Z
UID:cc07b750c2ef469c83e7d1c857a0b2ac
CREATED;VALUE=DATE-TIME:20170209T212039Z
DESCRIPTION:Aniversário de primeiro ano do portal desta Casa Legislativa.
  (este evento é um conteúdo de exemplo e pode ser removido)
LAST-MODIFIED;VALUE=DATE-TIME:20170209T212059Z
URL:https://www.riobranco.ac.leg.br/institucional/eventos/1o-ano-do-site
END:VEVENT
BEGIN:VTIMEZONE
TZID:Brazil/East
X-LIC-LOCATION:Brazil/East
BEGIN:DAYLIGHT
DTSTART;VALUE=DATE-TIME:20171015T010000
TZNAME:BRST
TZOFFSETFROM:-0300
TZOFFSETTO:-0200
END:DAYLIGHT
BEGIN:STANDARD
DTSTART;VALUE=DATE-TIME:20240217T230000
TZNAME:BRT
TZOFFSETFROM:-0200
TZOFFSETTO:-0300
END:STANDARD
END:VTIMEZONE
END:VCALENDAR
